BEGIN:VCALENDAR
VERSION:2.0
PRODID:-//JADECARE - ECPv6.8.3//NONSGML v1.0//EN
CALSCALE:GREGORIAN
METHOD:PUBLISH
X-ORIGINAL-URL:https://www.jadecare.eu
X-WR-CALDESC:Events for JADECARE
REFRESH-INTERVAL;VALUE=DURATION:PT1H
X-Robots-Tag:noindex
X-PUBLISHED-TTL:PT1H
BEGIN:VTIMEZONE
TZID:Europe/Berlin
BEGIN:DAYLIGHT
TZOFFSETFROM:+0100
TZOFFSETTO:+0200
TZNAME:CEST
DTSTART:20220327T010000
END:DAYLIGHT
BEGIN:STANDARD
TZOFFSETFROM:+0200
TZOFFSETTO:+0100
TZNAME:CET
DTSTART:20221030T010000
END:STANDARD
END:VTIMEZONE
BEGIN:VEVENT
DTSTART;TZID=Europe/Berlin:20221026T090000
DTEND;TZID=Europe/Berlin:20221026T170000
DTSTAMP:20260424T224853
CREATED:20221022T152147Z
LAST-MODIFIED:20221022T152328Z
UID:4136-1666774800-1666803600@www.jadecare.eu
SUMMARY:X-eHealth Final Conference / Second X-eHealth Innovation Day
DESCRIPTION:The X-eHealth project (Exchanging Electronic Health Records in a common framework) will hold its last event on October 26th – the 2nd Innovation Day at Centro Cultural de Belém in Lisbon\, for which interested European eHealth Stakeholders are invited. The 2nd Innovation Day will be a day dedicated to innovation and digital transformation in the European health sector\, namely\, the future of health data exchange in laboratory\, medical images\, discharge letters and rare diseases domains. \nThis event is public and free and will feature international experts who will share their knowledge on eHealth interoperability\, EHR public policies\, as well as the challenges and opportunities for the development of the European Health Data Space. \nOn X-eHealth | 2nd Innovation day page you can find out all the information regarding the agenda and guest speakers.   \nSecure your registration using the following form: Registration Form   \nIf you are unable to attend the event in person\, you can also attend the event online\, for which registrants will receive access details shortly. \nWhile the JADECARE constituency will hold an internal event the same day we are happy supporting the dissemination of this important event dedicated to the future of digital health in Europe\, in particular for the European Health Data Space.
URL:https://www.jadecare.eu/event/x-ehealth-final-conference-second-x-ehealth-innovation-day/
LOCATION:Centro Cultural de Belém in Lisbon\, Portugal\, Portugal
CATEGORIES:Digital Health Event,European Conference
ATTACH;FMTTYPE=image/jpeg:https://www.jadecare.eu/wp-content/uploads/2022/10/X-eHealth-Innovation-Day.jpg
END:VEVENT
END:VCALENDAR