BEGIN:VCALENDAR
VERSION:2.0
PRODID:-//JADECARE - ECPv6.8.3//NONSGML v1.0//EN
CALSCALE:GREGORIAN
METHOD:PUBLISH
X-ORIGINAL-URL:https://www.jadecare.eu
X-WR-CALDESC:Events for JADECARE
REFRESH-INTERVAL;VALUE=DURATION:PT1H
X-Robots-Tag:noindex
X-PUBLISHED-TTL:PT1H
BEGIN:VTIMEZONE
TZID:Europe/Berlin
BEGIN:DAYLIGHT
TZOFFSETFROM:+0100
TZOFFSETTO:+0200
TZNAME:CEST
DTSTART:20210328T010000
END:DAYLIGHT
BEGIN:STANDARD
TZOFFSETFROM:+0200
TZOFFSETTO:+0100
TZNAME:CET
DTSTART:20211031T010000
END:STANDARD
END:VTIMEZONE
BEGIN:VEVENT
DTSTART;TZID=Europe/Berlin:20211011T110000
DTEND;TZID=Europe/Berlin:20211014T200000
DTSTAMP:20260425T225725
CREATED:20210722T150804Z
LAST-MODIFIED:20211013T130200Z
UID:2299-1633950000-1634241600@www.jadecare.eu
SUMMARY:17th EuGMS Congress "Growing old in better health - building synergies across Europe"
DESCRIPTION:17th Congress of the European Geriatric Medicine Society (EuGMS):\n \n\n\nThe programme – accessible in-person in Athens (Megaron Congress Center) or Online – will focus on most recent advances in Healthcare\, Science and Research and in particular explore the latest outcomes on: \n\n\n\n\n\nNutrition and physical activity for better aging\nHow geriatrics concerns the non-geriatrician\nAge-related cardiovascular diseases and the pace of aging\nNeurodegenerative disorders in the geriatric context\nand other crucial topics related to COVID-19.\n\nAn international Faculty and Key Opinion Leaders will jointly convene with a worldwide community of experts and colleagues in the field of Geriatric Medicine. \nAt the congress\, JADECARE* presents its cross-european approach to improve integrated health care and to enable and support health systems transformations towards digitally enabled-integrated person-centred care. \n*The Joint Action JADECARE addresses the implementation of comprehensive and person-centred care through digital solutions all over Europe and especially for the most vulnerable patient groups and at all ages. \nDownload Preliminary Programme
URL:https://www.jadecare.eu/event/17th-eugms-congress-european-society-of-geriatrics/
LOCATION:Athens live and Broadcasted\, Megaron Athens International Conference Centre (MAICC)\, Vas. Sofias Ave. & Kokkali St.\, Athens\, 115 21\, Greece
CATEGORIES:European Conference,Public Health
ATTACH;FMTTYPE=image/jpeg:https://www.jadecare.eu/wp-content/uploads/2021/07/EU-GMS-Congress-2021-07-22.jpg
ORGANIZER;CN="Aristea":MAILTO:eugms.sponsor@aristea.com
END:VEVENT
END:VCALENDAR