BEGIN:VCALENDAR
VERSION:2.0
PRODID:-//JADECARE - ECPv6.8.3//NONSGML v1.0//EN
CALSCALE:GREGORIAN
METHOD:PUBLISH
X-WR-CALNAME:JADECARE
X-ORIGINAL-URL:https://www.jadecare.eu
X-WR-CALDESC:Events for JADECARE
REFRESH-INTERVAL;VALUE=DURATION:PT1H
X-Robots-Tag:noindex
X-PUBLISHED-TTL:PT1H
BEGIN:VTIMEZONE
TZID:Europe/Berlin
BEGIN:DAYLIGHT
TZOFFSETFROM:+0100
TZOFFSETTO:+0200
TZNAME:CEST
DTSTART:20220327T010000
END:DAYLIGHT
BEGIN:STANDARD
TZOFFSETFROM:+0200
TZOFFSETTO:+0100
TZNAME:CET
DTSTART:20221030T010000
END:STANDARD
END:VTIMEZONE
BEGIN:VEVENT
DTSTART;TZID=Europe/Berlin:20221108T143000
DTEND;TZID=Europe/Berlin:20221108T170000
DTSTAMP:20260424T224859
CREATED:20221020T093718Z
LAST-MODIFIED:20221020T095303Z
UID:4125-1667917800-1667926800@www.jadecare.eu
SUMMARY:Taking care of the complex patient: the contribution of JADECARE
DESCRIPTION:Upcoming (free) JADECARE Webinar “Taking care of the complex patient: the contribution of Joint Action on implementation of digitally enabled integrated person-centred care”: The increasing prevalence of chronic diseases and the frequent presence of multimorbid conditions represent a public health priority and a shared challenge present in both the Italian and European contexts: providing efficient\, personalized and integrated care that promotes better quality of services is key to address this challenge. \nTo this end\, the Regional Health Agency\, on behalf of the Region of Tuscany\, participates in the European Joint Action “JADECARE” (Joint Action on implementation of Digitally Enabled integrated person-centered CARE) whose purpose is to contribute to the development of more innovative\, effective and sustainable health care systems by supporting the sharing of some “Good Practices” already in place in other European countries. Therefore\, in accordance with the objectives of the project\, professionals from ARS Tuscany and “Piana di Lucca” District Zone have opted to transfer and implement some components of the Good Practice of the Basque Country in “Piana di Lucca” site. As a result\, a model of taking care of the complex patient that involves the co-presence of a multiprofessional and multidisciplinary team has been outlined and implemented in the “Piana di Lucca” District Zone. \nIn this second event\, which follows the Webinar on presentation of the project that took place in October 2021\, the Regional Health Agency’s objectives are to: \n\nProvide an overview on how the JADECARE project can fit into national and regional health policies\nEmphasise the Tuscany Region’s commitment to supporting European planning\nUpdate health professionals on the status of the project in “Piana di Lucca” District Zone: key point of the implementation\, main results\, achievements\, barriers and challenges\nUpdate health professionals on new “branching activities” in the South-East and Central Local Health Authorities: both Local Health Authorities have shown interest and willingness in transferring into their settings some components of the project developed in the “Piana di Lucca” District Zone.\n\nRegister here
URL:https://www.jadecare.eu/event/taking-care-of-the-complex-patient-the-contribution-of-jadecare/
LOCATION:Ars Toscana (Tuscany Region\, Italy)
CATEGORIES:Digital Health Event,European Conference,Integrated Care
ATTACH;FMTTYPE=image/jpeg:https://www.jadecare.eu/wp-content/uploads/2022/10/ARS-Toscana-Webinar_2022-11-08.jpeg
END:VEVENT
END:VCALENDAR