BEGIN:VCALENDAR
VERSION:2.0
PRODID:-//JADECARE - ECPv6.8.3//NONSGML v1.0//EN
CALSCALE:GREGORIAN
METHOD:PUBLISH
X-WR-CALNAME:JADECARE
X-ORIGINAL-URL:https://www.jadecare.eu
X-WR-CALDESC:Events for JADECARE
REFRESH-INTERVAL;VALUE=DURATION:PT1H
X-Robots-Tag:noindex
X-PUBLISHED-TTL:PT1H
BEGIN:VTIMEZONE
TZID:Europe/Berlin
BEGIN:DAYLIGHT
TZOFFSETFROM:+0100
TZOFFSETTO:+0200
TZNAME:CEST
DTSTART:20230326T010000
END:DAYLIGHT
BEGIN:STANDARD
TZOFFSETFROM:+0200
TZOFFSETTO:+0100
TZNAME:CET
DTSTART:20231029T010000
END:STANDARD
END:VTIMEZONE
BEGIN:VEVENT
DTSTART;TZID=Europe/Berlin:20230607T090000
DTEND;TZID=Europe/Berlin:20230609T170000
DTSTAMP:20260422T084038
CREATED:20230127T120119Z
LAST-MODIFIED:20230602T123805Z
UID:4449-1686128400-1686330000@www.jadecare.eu
SUMMARY:HIMSS23 Europe exploring Health that Connects + Tech that Cares
DESCRIPTION:HIMSS23 Europe\, one of the most influential digital health conferences in the continent\, will bring together the region’s healthcare ecosystem in Portugal at the Centro de Congressos de Lisboa from 7-9 June 2023\, to explore Health that Connects + Tech that Cares. \nThe event will opens in Portugal with the support of the Shared Services of Ministry of Health\, Portugal; Health Cluster Portugal with its 200 members from the health sector\, and other national institutions such as the Portuguese Agency for Investment and External Commerce (AICEP) and the Agency for Competitiveness and Innovation (IAPMEI). \nWe would like to confirm the participation of JADECARE in HIMSS23 in Lisbon! \n\nDate:  8th June 2023\nSession Location:  Auditorium 3\nSession time:  13:45 – 14:35\nSpeaker: Ulrik Appel\, SDCN\, Region North Denmark (JADECARE Next Adopter)\nTopic: Digitally preventative population health\nAbstract: Promotion of healthy lifestyles and the prevention of disease are the fundamental principles behind public health\, and the tremendous potential of data\, and digital technologies\, to transform preventative care with a population health focus has never been more evident. This session will explore best practice examples from across the region\, highlighting the role of data analytics and intelligent risk stratification tools in facilitating the identification of at risk\, vulnerable population groups. Taking a deep dive into some inspiring examples of preventative population health interventions aiming to promote healthier citizens and lower burden of disease across health systems.\n\n\nClick to see full HIMSS23 Europe Programme \nThe programme will share the very best examples of successful digital health transformation from Europe and beyond. Through an inspiring mix of keynotes\, real-world case studies\, discussion and Q&A\, we will spread solutions to healthcare’s toughest challenges around workforce\, health equity\, digital maturity\, sustainability\, service backlogs\, and more. Learn what works\, what doesn’t and how you could apply this knowledge to improve health outcomes in your locality. \n\nDigital Maturity\, Data and Analytics\nInnovative Care Pathways\nPreventative and Population Health\nWorkforce Crisis Solutions\nHealth System Value and Sustainability
URL:https://www.jadecare.eu/event/himss23-europe-in-lisbon-june-2023/
LOCATION:Centro de Congressos de Lisboa\, Praça das Indústrias 1\, Lisbon\, 1300-307\, Portugal
CATEGORIES:Digital Health Event,European Conference,Integrated Care
ATTACH;FMTTYPE=image/jpeg:https://www.jadecare.eu/wp-content/uploads/2023/01/HIMSS-Europe-2023-June-7-9.jpg
ORGANIZER;CN="Healthcare Information and Management Systems Society%2C Inc. (HIMSS).":MAILTO:info@himss.org
END:VEVENT
BEGIN:VEVENT
DTSTART;TZID=Europe/Berlin:20230608T080000
DTEND;TZID=Europe/Berlin:20230609T170000
DTSTAMP:20260422T084038
CREATED:20230127T135324Z
LAST-MODIFIED:20230310T095347Z
UID:4460-1686211200-1686330000@www.jadecare.eu
SUMMARY:European Implementation Event EIE2023
DESCRIPTION:At the #EIE2023\, Implementation – the translation\, uptake and integration of research findings within the daily routines of human services – takes centre stage. Attendees will learn about latest\, cutting-edge implementation science and practice; participate in inspiring and surprising discussions with international colleagues; expand your professional network; and be inspired by the diversity of this exciting discipline. \n\nEU funded Joint Action JADECARE\, aiming to assist Member States in undertaking health system reforms by supporting the transfer of four “original Good Practices” (primary care centers\, hospital and community setting) to 21 “Next Adopters (NAs)” of 14 different EU countries will be hosting a workshop at EIE2023 demonstrating its implementation strategy.\nThe three step implementation strategy has been developed to enable the transfer process that includes a series of techniques\, concrete procedures\, guidance and recommendations.\nThe three main phases are: Pre-implementation (planning and preparation)\, Implementation (roll-out and operation\, based on PDSA cycles) and Post-implementation (impact assessment and learning).  The strategy provides a blueprint for adoption\, implementation\, monitoring\, reporting and sustainability of successful interventions into new contexts.  Furthermore\, the successful use case of JADECARE sets the base to implement digitally enabled integrated care at large scale\, which translates into introducing innovations in health systems that result in better health care.\nFollowing the presentation of its strategy\, JADECARE representatives will discuss two key questions with the audience:\n1) How relevant is it to focus on the prior preparation of the local environment and to consider the key contextual determinants of the implementers to modulate the success of the implementation process?\n2) How can a community of learning stakeholders be promoted that explores ways to develop\, collect and exchange knowledge and performs concrete action for boosting and leveraging the sustainability of the implemented practices? \nEIC overarching goals\, also pursued at EIC2023  are to: \n\n\n\nBe the “go to” network for knowledge and resources on European implementation science and practice.\nConnect individuals\, groups\, networks\, and organisations\, reducing the implementation science – practice gap.\nActively promote equity in implementation science and practice.\nCollaborate with organisations\, networks\, and groups outside the EIC to push forward implementation science and practice.\n\nThe European Implementation Collaborative (EIC) aims to build a connected European community of practitioners\, researchers\, and policy makers with contemporary implementation skills and expertise\, improving the quality of life for all people.
URL:https://www.jadecare.eu/event/european-implementation-event-eie2023/
LOCATION:Basel\, Switzerland\, Basel\, 4001\, Switzerland
CATEGORIES:European Conference,Integrated Care
ATTACH;FMTTYPE=image/png:https://www.jadecare.eu/wp-content/uploads/2023/01/European-Implementation-Event-logo.png
ORGANIZER;CN="European Implementation Collaborative (EIC)":MAILTO:eie@implementation.eu
END:VEVENT
BEGIN:VEVENT
DTSTART;TZID=Europe/Berlin:20230612T080000
DTEND;TZID=Europe/Berlin:20230614T170000
DTSTAMP:20260422T084038
CREATED:20230505T145657Z
LAST-MODIFIED:20230505T150956Z
UID:4624-1686556800-1686762000@www.jadecare.eu
SUMMARY:Implementation Research Scientific Conference
DESCRIPTION:The Implementation Research Scientific Conference in Bilbao comes at a crucial juncture in which it is essential to think about how Implementation Science and practice may work together in order to facilitate the translation of evidence-based interventions into routine clinical practice aiming to increase their reach\, adoption\, implementation and maintenance.  \n\nJADECARE has been accepted as a presenter to this conference on “The Implementation strategy for the transfer and adoption of successfully proven good practices on digitally enabled integrated person-centred care to heterogeneous contexts”: In the framework of speeding up the adoption of integrated person-centred care solutions in Europe by improving their capacity to redesign and improve their healthcare systems\, the EU funded “Joint Action on digitally enabled integrated person-centred care” intends to support the transformation of health systems by addressing the transfer and adoption of four “original Good Practices” (oGPs) to 21 settings of “Next Adopters” (NAs) from 14 European countries holding different levels of maturity of integrated care. A three-step implementation strategy has been developed for enabling the transfer of experiences and knowledge: \n\nPre-implementation (planning and preparation): the NAs analyzed their contexts with the SWOT analysis and identified more than 150 local needs aligned with oGPs‘ key elements (study visits organized). As a consequence\, 64 interventions were defined targeting more than 4 million people.\nImplementation (roll-out and operation): the NAs deployed their action plans by means of two PDSA Cycles monitored by more than 350 KPIs. In ten structured thematic workshops they exchanged their experience about the transfer process.\nPost-implementation (impact assessment and learning): the NAs analyzed the implementation process through the CFIR and reported the whole experience using SQUIRE 2.0 guidelines. Moreover\, the implementation strategy is assessed by NAs (end users) to evaluate its impact and usability.\n\nJADECARE impacts on European health systems by implementing innovative digital integrated care solutions and helping to change the model of care provision. It sets the base to implement integrated care at large scale by delivering know how to transfer innovative and tailored practices and generating evidence that aspires to produce benefits beyond the project. \nImplementation Research and Practice:The biggest problem that undermines the quality of our health services is not the lack of research\, but rather the lack of real implementation of the knowledge that research generates. The real translation into clinical health practice of effective interventions for health promotion and prevention of chronic diseases remains an unresolved challenge in health systems worldwide. Additionally\, a considerable proportion of the interventions provided to patients in the healthcare context lack solid evidence of the effectiveness. The elimination or reduction of this low-value care can lead to improvements in the quality of care and its results in terms of population health while reducing costs. \n\n\n​Implementation Science seeks to address and reduce this translational gap by studying and understanding:        \n\nThe political\, social\, behavioral\, economic and organizational factors that impede the effective dissemination and implementation of clinical\, public health and organizational findings based on evidence.\nThe identification\, development and evaluation of specific strategies that allow the integration into routine clinical practice\, interventions and therapies of proven efficacy that are not being applied in a generalized\, sustainable and continuous way (Implementation) or promote the abandonment or substitution of ineffective or cost-ineffective practices or interventions (De-implementation). 
URL:https://www.jadecare.eu/event/implementation-research-scientific-conference/
LOCATION:Biblioteca universitaria de Deusto\, Bilbao\, Calle Ramón Rubial 1\, Bilbao\, Basque Country\, 48009\, Spain
CATEGORIES:Digital Health Event,Integrated Care,Public Health
ATTACH;FMTTYPE=image/jpeg:https://www.jadecare.eu/wp-content/uploads/2023/05/Bilbao-Implementation-Research-Scientific-Conference-2023.jpg
END:VEVENT
END:VCALENDAR