BEGIN:VCALENDAR
VERSION:2.0
PRODID:-//JADECARE - ECPv6.8.3//NONSGML v1.0//EN
CALSCALE:GREGORIAN
METHOD:PUBLISH
X-WR-CALNAME:JADECARE
X-ORIGINAL-URL:https://www.jadecare.eu
X-WR-CALDESC:Events for JADECARE
REFRESH-INTERVAL;VALUE=DURATION:PT1H
X-Robots-Tag:noindex
X-PUBLISHED-TTL:PT1H
BEGIN:VTIMEZONE
TZID:Europe/Berlin
BEGIN:DAYLIGHT
TZOFFSETFROM:+0100
TZOFFSETTO:+0200
TZNAME:CEST
DTSTART:20210328T010000
END:DAYLIGHT
BEGIN:STANDARD
TZOFFSETFROM:+0200
TZOFFSETTO:+0100
TZNAME:CET
DTSTART:20211031T010000
END:STANDARD
END:VTIMEZONE
BEGIN:VEVENT
DTSTART;TZID=Europe/Berlin:20210325T090000
DTEND;TZID=Europe/Berlin:20210326T180000
DTSTAMP:20260426T023539
CREATED:20210316T225609Z
LAST-MODIFIED:20210722T145709Z
UID:998-1616662800-1616781600@www.jadecare.eu
SUMMARY:16th Edition of International Conference on Health & Primary CareTheme: Transforming Healthcare in Every Direction during COVID-19
DESCRIPTION:16th Edition of International Conference on Health & Primary CareTheme:\nTransforming Healthcare in Every Direction during COVID-19. \nEuroSciCon\, founded in 2001 is a UK based independent life science Events Company with predominantly business and academic client base. The key strategic objective of EuroSciCon is to communicate science and medical research between academia\, clinical practice and the pharmaceutical industry. Most of its events are in Europe and London or live streamed. EuroSciCon expanded its operations to international in association with Meetings International\, Singapore. All major meetings of EuroSciCon and Meetings International will issue Continued Professional Education (CPD)\, Continued Education (CE)\, Continued Medical Education (CME) Credits. \nAcademic Key Topics:\nSleep\, Management of Nose Disorders\, Management of Mental Health Disorders\, Management of Gynecologic Concerns\, Management of Eye Disorders\, Management of Ear Disorders\, Internal Medicine\, Infectious DiseasesBusiness Key Topics: Medicare and Medicaid\, Medical Sociology\, Medical Social Work\, Medical Ethics\, Medical Education\, Midwives\, Nursing Education\, Nursing Homes
URL:https://www.jadecare.eu/event/16th-edition-of-international-conference-on-health-primary-caretheme-transforming-healthcare-in-every-direction-during-covid-19/
LOCATION:Barcelona\, Spain
CATEGORIES:European Conference,Public Health
ATTACH;FMTTYPE=image/jpeg:https://www.jadecare.eu/wp-content/uploads/2021/03/Euroscion-Primary-Health-2021-03-25.jpg
END:VEVENT
END:VCALENDAR