BEGIN:VCALENDAR
VERSION:2.0
PRODID:-//JADECARE - ECPv6.8.3//NONSGML v1.0//EN
CALSCALE:GREGORIAN
METHOD:PUBLISH
X-WR-CALNAME:JADECARE
X-ORIGINAL-URL:https://www.jadecare.eu
X-WR-CALDESC:Events for JADECARE
REFRESH-INTERVAL;VALUE=DURATION:PT1H
X-Robots-Tag:noindex
X-PUBLISHED-TTL:PT1H
BEGIN:VTIMEZONE
TZID:Europe/Berlin
BEGIN:DAYLIGHT
TZOFFSETFROM:+0100
TZOFFSETTO:+0200
TZNAME:CEST
DTSTART:20210328T010000
END:DAYLIGHT
BEGIN:STANDARD
TZOFFSETFROM:+0200
TZOFFSETTO:+0100
TZNAME:CET
DTSTART:20211031T010000
END:STANDARD
END:VTIMEZONE
BEGIN:VEVENT
DTSTART;TZID=Europe/Berlin:20210915T090000
DTEND;TZID=Europe/Berlin:20210917T180000
DTSTAMP:20260425T133222
CREATED:20210826T111013Z
LAST-MODIFIED:20210826T120619Z
UID:2317-1631696400-1631901600@www.jadecare.eu
SUMMARY:EHMA 2021 "Health Management: Managing the present and shaping the future"
DESCRIPTION:Annual Conference 2021 of the European Health Management Association (EHMA) \nOver the last year\, health systems across Europe have encountered the most difficult times for a generation. Throughout the world\, health services buckled under the strain of COVID-19\, confronting enormous challenges around hospital capacity and workforce planning during a pandemic. As managers are pondering whether there will be a return to a ‘new normal’\, important questions will be asked about how to increase the resilience and readiness of health systems whilst also providing high-quality routine care catching up on the backlog of many months of missed operations. Health management will be at the centre of providing solutions for these unprecedented difficulties. Bringing practitioners\, researchers and academics together to share solutions has never been more important than today. \nEHMA Annual Conference 2021 is organised by EHMA in collaboration with the Associação Portuguesa de Administradores Hospitalares (APAH) and its academic partners\, the Escola Nacional de Saúde Pública and the Universidade Nova: Nova School of Business and Economics. The conference brings together experts from across the world to discuss solutions to managing services in the post-COVID future. The EHMA Annual Conference is widely considered the preeminent place to share experiences\, skills and competencies in the field of health management. It is a place for all healthcare stakeholders to come together\, discuss current topics and exchange innovation and best practices. \nThe JADECARE Joint Action will present its approach for transfering and enabling the adoption of best practice models for integrated digitally-enabled person-centred care to health care institutions and networking communities in different parts of Europe to foster and ensure the health and well-being of European citizens. We look forward to (virtually) seeing you at Lisbon!
URL:https://www.jadecare.eu/event/ehma-annual-conference-2021/
LOCATION:Lisbon (hybrid)\, Portugal
CATEGORIES:European Conference,Public Health
ATTACH;FMTTYPE=image/jpeg:https://www.jadecare.eu/wp-content/uploads/2021/08/EHMA-2021-1.jpg
ORGANIZER;CN="European Health Management Association (EHMA)":MAILTO:chiara.gonzi@ehma.org
END:VEVENT
END:VCALENDAR