BEGIN:VCALENDAR
VERSION:2.0
PRODID:-//JADECARE - ECPv6.8.3//NONSGML v1.0//EN
CALSCALE:GREGORIAN
METHOD:PUBLISH
X-WR-CALNAME:JADECARE
X-ORIGINAL-URL:https://www.jadecare.eu
X-WR-CALDESC:Events for JADECARE
REFRESH-INTERVAL;VALUE=DURATION:PT1H
X-Robots-Tag:noindex
X-PUBLISHED-TTL:PT1H
BEGIN:VTIMEZONE
TZID:Europe/Berlin
BEGIN:DAYLIGHT
TZOFFSETFROM:+0100
TZOFFSETTO:+0200
TZNAME:CEST
DTSTART:20210328T010000
END:DAYLIGHT
BEGIN:STANDARD
TZOFFSETFROM:+0200
TZOFFSETTO:+0100
TZNAME:CET
DTSTART:20211031T010000
END:STANDARD
END:VTIMEZONE
BEGIN:VEVENT
DTSTART;VALUE=DATE:20210610
DTEND;VALUE=DATE:20210613
DTSTAMP:20260423T052141
CREATED:20210317T112031Z
LAST-MODIFIED:20210826T141937Z
UID:1135-1623290400-1623463199@www.jadecare.eu
SUMMARY:2nd midterm conference of EUPHA Health Workforce Research (HWR) section
DESCRIPTION:Run in collaboration with the Institute of Hygiene and Tropical Medicine in Lisbon\, the European Observatory on Health Systems and Policies\, WHO Regional Office for Europe\, ASPHER\, and EUPHA:\nHealth workforce research has never been more important. The COVID-19 crisis reminds us that human resources for health are the backbone and the ‘heart and soul’ of every healthcare system. The pandemic revealed both the system weaknesses and the opportunities for innovation. The EUPHA-HWR second midterm Conference provided a forum for exchanging knowledge and expertise on how to create a better prepared and protected health workforce and more resilient healthcare systems.\nThe Conference also contributed to the WHO International Year of Health and Care Workers (YHCW) in 2021 in recognition of their dedication to providing care during and despite the COVID-19 pandemic that has challenged health systems worldwide.
URL:https://www.jadecare.eu/event/2nd-midterm-conference-of-eupha-health-workforce-research-hwr-section/
LOCATION:Lisbon (hybrid)\, Portugal
CATEGORIES:European Conference,Public Health
ATTACH;FMTTYPE=image/jpeg:https://www.jadecare.eu/wp-content/uploads/2021/03/Event-2021-06-10-EUPHA-Midterm-Conference50.jpg
END:VEVENT
BEGIN:VEVENT
DTSTART;TZID=Europe/Berlin:20210607T070000
DTEND;TZID=Europe/Berlin:20210609T170000
DTSTAMP:20260423T052141
CREATED:20210316T231203Z
LAST-MODIFIED:20210826T141837Z
UID:1008-1623049200-1623258000@www.jadecare.eu
SUMMARY:HIMSS & Health 2.0 Health Conference & Exhibition
DESCRIPTION:Featuring best practices and thought leadership amongst Europe\, the HIMSS21 & Health 2.0 European Health Conference encompasses virtual engagement for attendees as the world makes the transition to a new normal. Network with forward-thinking peers and solutions providers exploring innovative approaches to collaborations\, sustainability and precision and transforming health and care in Europe. \nHIMSS & Health 2.0 Health Conference & Exhibition aims connecting professionals throughout the European health ecosystem for the education\, innovation and collaboration they need to reimagine health and wellness for everyone\, everywhere.
URL:https://www.jadecare.eu/event/himss-health-2-0-health-conference-exhibition/
LOCATION:Helsinki\, Finland (virtual/hybrid)\, Finland
CATEGORIES:European Conference
ATTACH;FMTTYPE=image/jpeg:https://www.jadecare.eu/wp-content/uploads/2021/03/HIMSS-Europe-and-Health20digital-2021-06-07.jpg
END:VEVENT
BEGIN:VEVENT
DTSTART;TZID=Europe/Berlin:20210511T110000
DTEND;TZID=Europe/Berlin:20210520T190000
DTSTAMP:20260423T052141
CREATED:20210312T122637Z
LAST-MODIFIED:20210826T123822Z
UID:652-1620730800-1621537200@www.jadecare.eu
SUMMARY:ICIC21 “Realising the true value of Integrated Care”
DESCRIPTION:In 2021 the 21st International Conference on Integrated Care (ICIC21) “Realising the true value of Integrated Care” took place as a virtual conference\, co-hosted by IFIC hubs and collaborative centres IFIC Scotland\, IFIC Australia\, IFIC Ireland\, IFIC Canada and IFIC Latin America. The conference ran across the whole month of May taking place across various time zones. \n\n\n\n\n\n\nPresenters pre-record their presentations and were available to all delegates to access in their own time. During the live sessions successful authors were asked to reduce the time of their presentation to key points and sessions were ran interactively hosted by two or more chairs leading a discussion with paper presenters. This was much more enjoyable for the viewer and more engaging from the audience for presenters by using this format. \n\n\n\n\n\n\nWorkshops were designed with the virtual audience in mind and for making the best use of digital technology and provides the best learning experience for attendees.
URL:https://www.jadecare.eu/event/icic2021-realising-the-true-value-of-integrated-care/
LOCATION:ICIC Virtual Conference
CATEGORIES:Integrated Care,Public Health
ATTACH;FMTTYPE=image/jpeg:https://www.jadecare.eu/wp-content/uploads/2021/03/ICIC-2021-Value-of-Integrated-Care.jpg
END:VEVENT
BEGIN:VEVENT
DTSTART;TZID=Europe/Berlin:20210325T090000
DTEND;TZID=Europe/Berlin:20210326T180000
DTSTAMP:20260423T052141
CREATED:20210316T225609Z
LAST-MODIFIED:20210722T145709Z
UID:998-1616662800-1616781600@www.jadecare.eu
SUMMARY:16th Edition of International Conference on Health & Primary CareTheme: Transforming Healthcare in Every Direction during COVID-19
DESCRIPTION:16th Edition of International Conference on Health & Primary CareTheme:\nTransforming Healthcare in Every Direction during COVID-19. \nEuroSciCon\, founded in 2001 is a UK based independent life science Events Company with predominantly business and academic client base. The key strategic objective of EuroSciCon is to communicate science and medical research between academia\, clinical practice and the pharmaceutical industry. Most of its events are in Europe and London or live streamed. EuroSciCon expanded its operations to international in association with Meetings International\, Singapore. All major meetings of EuroSciCon and Meetings International will issue Continued Professional Education (CPD)\, Continued Education (CE)\, Continued Medical Education (CME) Credits. \nAcademic Key Topics:\nSleep\, Management of Nose Disorders\, Management of Mental Health Disorders\, Management of Gynecologic Concerns\, Management of Eye Disorders\, Management of Ear Disorders\, Internal Medicine\, Infectious DiseasesBusiness Key Topics: Medicare and Medicaid\, Medical Sociology\, Medical Social Work\, Medical Ethics\, Medical Education\, Midwives\, Nursing Education\, Nursing Homes
URL:https://www.jadecare.eu/event/16th-edition-of-international-conference-on-health-primary-caretheme-transforming-healthcare-in-every-direction-during-covid-19/
LOCATION:Barcelona\, Spain
CATEGORIES:European Conference,Public Health
ATTACH;FMTTYPE=image/jpeg:https://www.jadecare.eu/wp-content/uploads/2021/03/Euroscion-Primary-Health-2021-03-25.jpg
END:VEVENT
BEGIN:VEVENT
DTSTART;TZID=Europe/Berlin:20210324T090000
DTEND;TZID=Europe/Berlin:20210325T190000
DTSTAMP:20260423T052141
CREATED:20210316T230734Z
LAST-MODIFIED:20210826T123931Z
UID:1005-1616576400-1616698800@www.jadecare.eu
SUMMARY:11th European Epidemiology and Public Health Congress
DESCRIPTION:61th European Epidemiology and Public Health Congress has become a Webinar (virtual event) and it is going to be held during March 24\, 2021. On behalf of its organizing committee assembles all the renowned epidemiologists\, nutritionists\, health care experts\, researchers\, physicians\, doctors\, talented young scientists and student communities from worldwide under a single roof and present new scientific innovations in the field of epidemiology. Euro Epidemiology 2021 Webinar intends to serve as an international platform for researchers\, students and healthcare professionals of Epidemiology and Public Health. This will create new opportunities to share\, view and exchange all your knowledge\, widen professional contact and establish new collaborations. This webinar will cover up all scientific keynote sessions\, special speaker session\, oral\, poster presentation\, video presentation\, E- poster presentation\, workshops and exhibitions by various academic experts from all around the world.
URL:https://www.jadecare.eu/event/11th-european-epidemiology-and-public-health-congress/
CATEGORIES:European Conference,Public Health
ATTACH;FMTTYPE=image/jpeg:https://www.jadecare.eu/wp-content/uploads/2021/03/Event-2021-03-24-European-Epidemiology-and-PHealth.jpg
END:VEVENT
END:VCALENDAR